-0.00000000000000
-0.13000000000000
-0.13000000000000
0.00000000000000
675830.69646565779000
256996.15670960798000
