-0.00000000000000
-0.13000000000000
-0.13000000000000
0.00000000000000
675910.69646565779000
250799.15670960798000
