-0.00000000000000
-0.13000000000000
-0.13000000000000
0.00000000000000
675886.69646565779000
243911.15670960798000
