-0.00000000000000
-0.13000000000000
-0.13000000000000
0.00000000000000
675872.69646565779000
242013.15670960798000
