-0.00000000000000
-0.13000000000000
-0.13000000000000
0.00000000000000
675830.69646565779000
240149.15670960798000
