0.00000000000000
0.13000000000000
0.13000000000000
-0.00000000000000
672015.30353434233000
264854.84329039202000
