0.00000000000000
0.13000000000000
0.13000000000000
-0.00000000000000
670390.30353434233000
263898.84329039202000
