0.00000000000000
0.13000000000000
0.13000000000000
-0.00000000000000
670390.30353434221000
249960.84329039202000
