0.00000000000000
0.13000000000000
0.13000000000000
-0.00000000000000
670949.30353434221000
237486.84329039202000
