-0.00000000000000
-0.13000000000000
-0.13000000000000
0.00000000000000
671187.69646565779000
261808.15670960798000
