-0.00000000000000
-0.13000000000000
-0.13000000000000
0.00000000000000
671205.69646565779000
257590.15670960798000
